BEGIN:VCALENDAR
VERSION:2.0
PRODID:-//ZContent.net//ZapCalLib 1.0//EN
CALSCALE:GREGORIAN
METHOD:PUBLISH
BEGIN:VEVENT
SUMMARY:Verqueres Denken | Gefährliche Weltbilder in alternativen Milieus
DTSTART:20210621T193000
DTEND:20210621T203000
UID:2026-04-22-16-43-44-0-@calendar.boell.de
DTSTAMP:20260422T144344
DESCRIPTION:▶ Online-Veranstaltung – Heinrich Böll Stiftung Baden-Wür
 ttemberg
END:VEVENT
END:VCALENDAR
