BEGIN:VCALENDAR
VERSION:2.0
PRODID:-//ZContent.net//ZapCalLib 1.0//EN
CALSCALE:GREGORIAN
METHOD:PUBLISH
BEGIN:VEVENT
SUMMARY:Ressourcen schonen und Zukunft planen im Altdorfer Wald | Podiumsdi
 skussion
DTSTART:20210702T193000
DTEND:20210702T213000
UID:2026-04-22-09-49-00-0-@calendar.boell.de
DTSTAMP:20260422T074900
DESCRIPTION:▶ Siehe Veranstaltungsbeschreibung – Heinrich Böll Stiftun
 g Baden-Württemberg
END:VEVENT
END:VCALENDAR
