BEGIN:VCALENDAR
VERSION:2.0
PRODID:-//ZContent.net//ZapCalLib 1.0//EN
CALSCALE:GREGORIAN
METHOD:PUBLISH
BEGIN:VEVENT
SUMMARY:ABGESAGT Spielvorstellung: “GeVi – Geschlechtliche Vielfalt neu
  erleben!” | Workshop für Multiplikator*innen
DTSTART:20210708T100000
DTEND:20210708T130000
UID:2021-12-02-04-13-13-0-@calendar.boell.de
DTSTAMP:20211202T031313
DESCRIPTION:▶ Siehe Veranstaltungsbeschreibung – Halle (Saale) – Land
 esstiftung Sachsen-Anhalt
END:VEVENT
END:VCALENDAR
