BEGIN:VCALENDAR
VERSION:2.0
PRODID:-//ZContent.net//ZapCalLib 1.0//EN
CALSCALE:GREGORIAN
METHOD:PUBLISH
BEGIN:VEVENT
SUMMARY:Wahre Männlichkeit? Männlichkeiten und Männlichkeitsbilder in de
 r Neuen Rechten | #5 Rechte Männer in der Arbeiter*innenbewegung?! Analys
 en und Herausforderungen
DTSTART:20210714T160000
DTEND:20210714T180000
UID:2026-04-22-22-59-42-0-@calendar.boell.de
DTSTAMP:20260422T205942
DESCRIPTION:▶ Online-Veranstaltung – Gunda-Werner-Institut für Feminis
 mus und Geschlechterdemokratie
END:VEVENT
END:VCALENDAR
