BEGIN:VCALENDAR
VERSION:2.0
PRODID:-//ZContent.net//ZapCalLib 1.0//EN
CALSCALE:GREGORIAN
METHOD:PUBLISH
BEGIN:VEVENT
SUMMARY:Weimar for Future | Gespräche zu den kulturellen Dimensionen von K
 limakrise und sozial-ökologischer Transformation
DTSTART:20210827T140000
DTEND:20210827T210000
UID:2026-04-23-13-51-21-0-@calendar.boell.de
DTSTAMP:20260423T115121
DESCRIPTION:▶ Siehe Veranstaltungsbeschreibung – Weimar – 
END:VEVENT
END:VCALENDAR
