BEGIN:VCALENDAR
VERSION:2.0
PRODID:-//ZContent.net//ZapCalLib 1.0//EN
CALSCALE:GREGORIAN
METHOD:PUBLISH
BEGIN:VEVENT
SUMMARY:BigBrotherAwards 2021 | Die "Oscars für Datenkraken"
DTSTART:20210611T180000
DTEND:20210611T200000
UID:2026-04-20-02-21-53-0-@calendar.boell.de
DTSTAMP:20260420T002153
DESCRIPTION:▶ Online-Veranstaltung – Externe Veranstaltung
END:VEVENT
END:VCALENDAR
