BEGIN:VCALENDAR
VERSION:2.0
PRODID:-//ZContent.net//ZapCalLib 1.0//EN
CALSCALE:GREGORIAN
METHOD:PUBLISH
BEGIN:VEVENT
SUMMARY:Wie gelingt eine sozial-ökologische Transformation?  | Einführung
  und Diskussion mit Silja Graupe
DTSTART:20210607T190000
DTEND:20210607T203000
UID:2026-04-19-21-01-53-0-@calendar.boell.de
DTSTAMP:20260419T190153
DESCRIPTION:▶ Siehe Veranstaltungsbeschreibung – Landesstiftung Rheinla
 nd-Pfalz
END:VEVENT
END:VCALENDAR
