BEGIN:VCALENDAR
VERSION:2.0
PRODID:-//ZContent.net//ZapCalLib 1.0//EN
CALSCALE:GREGORIAN
METHOD:PUBLISH
BEGIN:VEVENT
SUMMARY:Parität! Jetzt! Neu als Stream! | Wie Sachsen-Anhalts Parlament, S
 tadt- und Gemeinderäte künftig geschlechtergerechter werden können.
DTSTART:20210630T190000
DTEND:20210630T203000
UID:2026-04-22-06-26-35-0-@calendar.boell.de
DTSTAMP:20260422T042635
DESCRIPTION:▶ Siehe Veranstaltungsbeschreibung – Magdeburg – Landesst
 iftung Sachsen-Anhalt
END:VEVENT
END:VCALENDAR
