BEGIN:VCALENDAR
VERSION:2.0
PRODID:-//ZContent.net//ZapCalLib 1.0//EN
CALSCALE:GREGORIAN
METHOD:PUBLISH
BEGIN:VEVENT
SUMMARY:Cities for Change - Chancen eines Berliner Munizipalismus
DTSTART:20210605T180000
DTEND:20210605T210000
UID:2026-04-19-21-02-12-0-@calendar.boell.de
DTSTAMP:20260419T190212
DESCRIPTION:▶ Siehe Veranstaltungsbeschreibung – Landesstiftung Berlin 
 (Bildungswerk)
END:VEVENT
END:VCALENDAR
