BEGIN:VCALENDAR
VERSION:2.0
PRODID:-//ZContent.net//ZapCalLib 1.0//EN
CALSCALE:GREGORIAN
METHOD:PUBLISH
BEGIN:VEVENT
SUMMARY:Ein Gespräch über dekoloniale Feminismus mit dekoloniale Feminist
 *innen in Dresden aus “Lateinamerika” | Mit Feminista antirracista de 
 Abya Yala: Eine selbstorganisierte Kollektiva in Sachsen
DTSTART:20210604T180000
DTEND:20210604T200000
UID:2026-04-19-21-02-12-0-@calendar.boell.de
DTSTAMP:20260419T190212
DESCRIPTION:▶ Siehe Veranstaltungsbeschreibung – Dresden – Landesstif
 tung Sachsen (Weiterdenken)
END:VEVENT
END:VCALENDAR
