BEGIN:VCALENDAR
VERSION:2.0
PRODID:-//ZContent.net//ZapCalLib 1.0//EN
CALSCALE:GREGORIAN
METHOD:PUBLISH
BEGIN:VEVENT
SUMMARY:Antifeminismus und Sexismus in Deutschland auf der Einstellungseben
 e | Online-Veranstaltung zur Leipziger Autoritarismus-Studie 2020 #5
DTSTART:20210621T170000
DTEND:20210621T180000
UID:2021-12-02-03-21-13-0-@calendar.boell.de
DTSTAMP:20211202T022113
DESCRIPTION:▶ Online-Veranstaltung – Heinrich-Böll-Stiftung - Bundesst
 iftung Berlin
END:VEVENT
END:VCALENDAR
