BEGIN:VCALENDAR
VERSION:2.0
PRODID:-//ZContent.net//ZapCalLib 1.0//EN
CALSCALE:GREGORIAN
METHOD:PUBLISH
BEGIN:VEVENT
SUMMARY:Online-Seminar: Stressmanagement (ausgebucht/Warteliste) | Die inne
 re Anspannung überwinden
DTSTART:20210827T150000
DTEND:20210903T183000
UID:2026-04-24-09-05-39-0-@calendar.boell.de
DTSTAMP:20260424T070539
DESCRIPTION:▶ Siehe Veranstaltungsbeschreibung – Landesstiftung Nordrhe
 in-Westfalen
END:VEVENT
END:VCALENDAR
