BEGIN:VCALENDAR
VERSION:2.0
PRODID:-//ZContent.net//ZapCalLib 1.0//EN
CALSCALE:GREGORIAN
METHOD:PUBLISH
BEGIN:VEVENT
SUMMARY:Wo entscheidet sich das Klima? | Klimapolitik zwischen Politik, Wis
 senschaft und Aktivismus
DTSTART:20210615T190000
DTEND:20210615T210000
UID:2026-04-19-21-02-04-0-@calendar.boell.de
DTSTAMP:20260419T190204
DESCRIPTION:▶ Online-Veranstaltung – Landesstiftung Hamburg
END:VEVENT
END:VCALENDAR
