BEGIN:VCALENDAR
VERSION:2.0
PRODID:-//ZContent.net//ZapCalLib 1.0//EN
CALSCALE:GREGORIAN
METHOD:PUBLISH
BEGIN:VEVENT
SUMMARY:Ausstellung: Grüne Fakten to Go!
DTSTART:20210601T100000
DTEND:20210731T180000
UID:2026-04-19-19-47-23-0-@calendar.boell.de
DTSTAMP:20260419T174723
DESCRIPTION:▶ Siehe Veranstaltungsbeschreibung – Neubrandenburg – Lan
 desstiftung Mecklenburg-Vorpommern
END:VEVENT
END:VCALENDAR
