BEGIN:VCALENDAR
VERSION:2.0
PRODID:-//ZContent.net//ZapCalLib 1.0//EN
CALSCALE:GREGORIAN
METHOD:PUBLISH
BEGIN:VEVENT
SUMMARY:Wie viel Europa steckt drin? Solidarität und Grundrechte | Sergey 
 Lagodinsky im Gespräch mit Ellen Ueberschär
DTSTART:20210602T133000
DTEND:20210602T141500
UID:2026-04-19-22-06-00-0-@calendar.boell.de
DTSTAMP:20260419T200600
DESCRIPTION:▶ Online-Veranstaltung – Heinrich-Böll-Stiftung - Bundesst
 iftung Berlin
END:VEVENT
END:VCALENDAR
