BEGIN:VCALENDAR
VERSION:2.0
PRODID:-//ZContent.net//ZapCalLib 1.0//EN
CALSCALE:GREGORIAN
METHOD:PUBLISH
BEGIN:VEVENT
SUMMARY:Europas starke Frauen | Nachhaltige Unternehmerinnen in Europa
DTSTART:20210531T180000
DTEND:20210531T193000
UID:2026-04-22-16-28-39-0-@calendar.boell.de
DTSTAMP:20260422T142839
DESCRIPTION:▶ Siehe Veranstaltungsbeschreibung – Heinrich-Böll-Stiftun
 g - Bundesstiftung Berlin
END:VEVENT
END:VCALENDAR
