BEGIN:VCALENDAR
VERSION:2.0
PRODID:-//ZContent.net//ZapCalLib 1.0//EN
CALSCALE:GREGORIAN
METHOD:PUBLISH
BEGIN:VEVENT
SUMMARY:Leadership for the next decade
DTSTART:20210528T140000
DTEND:20210528T201500
UID:2026-04-22-16-43-43-0-@calendar.boell.de
DTSTAMP:20260422T144343
DESCRIPTION:▶ Online-Veranstaltung – Externe Veranstaltung
END:VEVENT
END:VCALENDAR
