BEGIN:VCALENDAR
VERSION:2.0
PRODID:-//ZContent.net//ZapCalLib 1.0//EN
CALSCALE:GREGORIAN
METHOD:PUBLISH
BEGIN:VEVENT
SUMMARY:Advocating for Wild & Scenic Rivers: The Herm Hoops Epilogue | Excl
 usive Screening and Conversation 
DTSTART:20210708T190000
DTEND:20210708T210000
UID:2026-04-22-12-22-56-0-@calendar.boell.de
DTSTAMP:20260422T102256
DESCRIPTION:▶ Online-Veranstaltung – Heinrich Böll Stiftung Baden-Wür
 ttemberg
END:VEVENT
END:VCALENDAR
