BEGIN:VCALENDAR
VERSION:2.0
PRODID:-//ZContent.net//ZapCalLib 1.0//EN
CALSCALE:GREGORIAN
METHOD:PUBLISH
BEGIN:VEVENT
SUMMARY:Mit Gesundheit fairsorgen | Kommunale Gesundheitszentren als Modell
 e gemeinnütziger medizinischer Gesundheitsvorsorge?
DTSTART:20210605T110000
DTEND:20210605T143000
UID:2026-04-20-18-06-55-0-@calendar.boell.de
DTSTAMP:20260420T160655
DESCRIPTION:▶ Siehe Veranstaltungsbeschreibung – Landesstiftung Berlin 
 (Bildungswerk)
END:VEVENT
END:VCALENDAR
