BEGIN:VCALENDAR
VERSION:2.0
PRODID:-//ZContent.net//ZapCalLib 1.0//EN
CALSCALE:GREGORIAN
METHOD:PUBLISH
BEGIN:VEVENT
SUMMARY:Tour: Naturliebe und Menschenhass | Veranstaltungsreihe zu Völkisc
 hen Siedler*innen in Thüringen
DTSTART:20210713T190000
DTEND:20210713T203000
UID:2026-04-22-22-59-44-0-@calendar.boell.de
DTSTAMP:20260422T205944
DESCRIPTION:▶ Siehe Veranstaltungsbeschreibung – Saalfeld – Landessti
 ftung Thüringen
END:VEVENT
END:VCALENDAR
