BEGIN:VCALENDAR
VERSION:2.0
PRODID:-//ZContent.net//ZapCalLib 1.0//EN
CALSCALE:GREGORIAN
METHOD:PUBLISH
BEGIN:VEVENT
SUMMARY:Angela Merkel ist Hitlers Tochter. Im Land der Verschwörungstheori
 en | Lesung und Gespräch mit Christian Schiffer
DTSTART:20210526T190000
DTEND:20210526T210000
UID:2021-12-02-05-50-51-0-@calendar.boell.de
DTSTAMP:20211202T045051
DESCRIPTION:▶ Online-Veranstaltung – Landesstiftung Thüringen
END:VEVENT
END:VCALENDAR
