BEGIN:VCALENDAR
VERSION:2.0
PRODID:-//ZContent.net//ZapCalLib 1.0//EN
CALSCALE:GREGORIAN
METHOD:PUBLISH
BEGIN:VEVENT
SUMMARY:Benédicte Savoy - Le combat africain pour son art  | Le livre poli
 tique
DTSTART:20210518T193000
DTEND:20210518T210000
UID:2021-12-02-04-32-01-0-@calendar.boell.de
DTSTAMP:20211202T033201
DESCRIPTION:▶ Online-Veranstaltung – 
END:VEVENT
END:VCALENDAR
