BEGIN:VCALENDAR
VERSION:2.0
PRODID:-//ZContent.net//ZapCalLib 1.0//EN
CALSCALE:GREGORIAN
METHOD:PUBLISH
BEGIN:VEVENT
SUMMARY:Flucht und Asyl: Was passiert in Soest? | 10. Grüner Salon Soest
DTSTART:20210608T183000
DTEND:20210608T200000
UID:2026-04-19-21-01-44-0-@calendar.boell.de
DTSTAMP:20260419T190144
DESCRIPTION:▶ Siehe Veranstaltungsbeschreibung – Landesstiftung Nordrhe
 in-Westfalen
END:VEVENT
END:VCALENDAR
