BEGIN:VCALENDAR
VERSION:2.0
PRODID:-//ZContent.net//ZapCalLib 1.0//EN
CALSCALE:GREGORIAN
METHOD:PUBLISH
BEGIN:VEVENT
SUMMARY:Celle - Altstadt neu denken | Wie wollen wir 2050 leben?
DTSTART:20210529T094500
DTEND:20210529T170000
UID:2026-04-21-17-13-28-0-@calendar.boell.de
DTSTAMP:20260421T151328
DESCRIPTION:▶ Online-Veranstaltung – Celle – Stiftung Leben & Umwelt 
 / Heinrich-Böll-Stiftung Niedersachsen
END:VEVENT
END:VCALENDAR
