BEGIN:VCALENDAR
VERSION:2.0
PRODID:-//ZContent.net//ZapCalLib 1.0//EN
CALSCALE:GREGORIAN
METHOD:PUBLISH
BEGIN:VEVENT
SUMMARY:10 Jahre Arabellion: die sozialen Kämpfe in den Middle-East-Staate
 n und ihre Auswirkungen auf die Region | Sendereihe
DTSTART:20210511T170000
DTEND:20210511T180000
UID:2026-04-23-04-36-48-0-@calendar.boell.de
DTSTAMP:20260423T023648
DESCRIPTION:▶ Online-Veranstaltung – Petra-Kelly-Stiftung
END:VEVENT
END:VCALENDAR
