BEGIN:VCALENDAR
VERSION:2.0
PRODID:-//ZContent.net//ZapCalLib 1.0//EN
CALSCALE:GREGORIAN
METHOD:PUBLISH
BEGIN:VEVENT
SUMMARY:Tagung: Wärmewende in Kommunen | So gelingt der klimafreundliche U
 mbau unserer Wärmeversorgung
DTSTART:20210511T100000
DTEND:20210511T160000
UID:2026-04-21-02-26-46-0-@calendar.boell.de
DTSTAMP:20260421T002646
DESCRIPTION:▶ Online-Veranstaltung – Landesstiftung Mecklenburg-Vorpomm
 ern
END:VEVENT
END:VCALENDAR
