BEGIN:VCALENDAR
VERSION:2.0
PRODID:-//ZContent.net//ZapCalLib 1.0//EN
CALSCALE:GREGORIAN
METHOD:PUBLISH
BEGIN:VEVENT
SUMMARY:To collaborate | Diskussion mit der Reinigungsgesellschaft im Rahme
 n von ART GO EAST
DTSTART:20210528T180000
DTEND:20210528T200000
UID:2026-04-24-21-47-56-0-@calendar.boell.de
DTSTAMP:20260424T194756
DESCRIPTION:▶ Siehe Veranstaltungsbeschreibung – Leipzig – Landesstif
 tung Sachsen (Weiterdenken)
END:VEVENT
END:VCALENDAR
