BEGIN:VCALENDAR
VERSION:2.0
PRODID:-//ZContent.net//ZapCalLib 1.0//EN
CALSCALE:GREGORIAN
METHOD:PUBLISH
BEGIN:VEVENT
SUMMARY:Online-Seminar: Öffentlichkeitsarbeit im Ehrenamt (ausgebucht/Wart
 eliste) | Engagement sichtbar machen
DTSTART:20210520T140000
DTEND:20210601T180000
UID:2026-04-21-10-26-59-0-@calendar.boell.de
DTSTAMP:20260421T082659
DESCRIPTION:▶ Siehe Veranstaltungsbeschreibung – Landesstiftung Nordrhe
 in-Westfalen
END:VEVENT
END:VCALENDAR
