BEGIN:VCALENDAR
VERSION:2.0
PRODID:-//ZContent.net//ZapCalLib 1.0//EN
CALSCALE:GREGORIAN
METHOD:PUBLISH
BEGIN:VEVENT
SUMMARY:Autoritäre Dynamiken: Alte Ressentiments - neue Radikalität | Onl
 ine-Veranstaltung zur Leipziger Autoritarismus-Studie 2020 #1
DTSTART:20210426T170000
DTEND:20210426T180000
UID:2021-12-02-03-21-21-0-@calendar.boell.de
DTSTAMP:20211202T022121
DESCRIPTION:▶ Online-Veranstaltung – Heinrich-Böll-Stiftung - Bundesst
 iftung Berlin
END:VEVENT
END:VCALENDAR
