BEGIN:VCALENDAR
VERSION:2.0
PRODID:-//ZContent.net//ZapCalLib 1.0//EN
CALSCALE:GREGORIAN
METHOD:PUBLISH
BEGIN:VEVENT
SUMMARY:Argumentieren gegen Antifeminismus | Vortragsreihe Feminismus 2021
DTSTART:20210510T190000
DTEND:20210510T203000
UID:2026-04-21-01-05-41-0-@calendar.boell.de
DTSTAMP:20260420T230541
DESCRIPTION:▶ Siehe Veranstaltungsbeschreibung – Landesstiftung Berlin 
 (Bildungswerk)
END:VEVENT
END:VCALENDAR
