BEGIN:VCALENDAR
VERSION:2.0
PRODID:-//ZContent.net//ZapCalLib 1.0//EN
CALSCALE:GREGORIAN
METHOD:PUBLISH
BEGIN:VEVENT
SUMMARY:Vertrauensverlust oder Neustart: Zum Zustand der Demokratie
DTSTART:20210422T193000
DTEND:20210422T203000
UID:2026-04-23-20-25-56-0-@calendar.boell.de
DTSTAMP:20260423T182556
DESCRIPTION:▶ Online-Veranstaltung – Heinrich-Böll-Stiftung - Bundesst
 iftung Berlin
END:VEVENT
END:VCALENDAR
