BEGIN:VCALENDAR
VERSION:2.0
PRODID:-//ZContent.net//ZapCalLib 1.0//EN
CALSCALE:GREGORIAN
METHOD:PUBLISH
BEGIN:VEVENT
SUMMARY:Was ist die grüne Erzählung von ... Politik und Emotionen? | Digi
 tale Konferenz #grz21
DTSTART:20210614T180000
DTEND:20210615T190000
UID:2026-04-24-23-54-20-0-@calendar.boell.de
DTSTAMP:20260424T215420
DESCRIPTION:▶ Online-Veranstaltung – Berlin – Heinrich-Böll-Stiftung
  - Bundesstiftung Berlin
END:VEVENT
BEGIN:VEVENT
SUMMARY:Was ist die grüne Erzählung von ... Politik und Emotionen? | Digi
 tale Konferenz #grz21
DTSTART:20210614T180000
DTEND:20210614T193000
UID:2026-04-24-21-54-20-1-@calendar.boell.de
DTSTAMP:20260424T215420
DESCRIPTION:▶ Online-Veranstaltung – Berlin – Heinrich-Böll-Stiftung
  - Bundesstiftung Berlin
END:VEVENT
BEGIN:VEVENT
SUMMARY:Was ist die grüne Erzählung von ... Politik und Emotionen? | Digi
 tale Konferenz #grz21
DTSTART:20210615T150000
DTEND:20210615T190000
UID:2026-04-24-21-54-20-2-@calendar.boell.de
DTSTAMP:20260424T215420
DESCRIPTION:▶ Online-Veranstaltung – Berlin – Heinrich-Böll-Stiftung
  - Bundesstiftung Berlin
END:VEVENT
END:VCALENDAR
