BEGIN:VCALENDAR
VERSION:2.0
PRODID:-//ZContent.net//ZapCalLib 1.0//EN
CALSCALE:GREGORIAN
METHOD:PUBLISH
BEGIN:VEVENT
SUMMARY:Virtuelle Sitzungen und Diskussionen erfolgreich leiten (ausgebucht
 ) | Fit For Politics - Online-Workshop mit Silke Inselmann
DTSTART:20211203T160022
DTEND:20211204T160000
UID:2021-12-02-03-44-50-0-@calendar.boell.de
DTSTAMP:20211202T024450
DESCRIPTION:▶ Online-Veranstaltung – Landesstiftung Niedersachsen (Lebe
 n & Umwelt)
END:VEVENT
END:VCALENDAR
