BEGIN:VCALENDAR
VERSION:2.0
PRODID:-//ZContent.net//ZapCalLib 1.0//EN
CALSCALE:GREGORIAN
METHOD:PUBLISH
BEGIN:VEVENT
SUMMARY:Naturschutz = Heimatschutz?! - Völkische Traditionen im Natur- und
  Umweltschutz  | Suppentopf-Palaver mit Ruben Bögeholz, Fachstelle Radika
 lisierungsprävention und Engagement im Naturschutz
DTSTART:20211010T150000
DTEND:20211010T183000
UID:2026-04-24-08-45-47-0-@calendar.boell.de
DTSTAMP:20260424T064547
DESCRIPTION:▶ Siehe Veranstaltungsbeschreibung – Stiftung Leben & Umwel
 t / Heinrich-Böll-Stiftung Niedersachsen
END:VEVENT
END:VCALENDAR
