BEGIN:VCALENDAR
VERSION:2.0
PRODID:-//ZContent.net//ZapCalLib 1.0//EN
CALSCALE:GREGORIAN
METHOD:PUBLISH
BEGIN:VEVENT
SUMMARY:Ausfall: Was ist... Kapitalismus? | Jugendseminar
DTSTART:20210703T100000
DTEND:20210704T170000
UID:2021-12-02-04-14-01-0-@calendar.boell.de
DTSTAMP:20211202T031401
DESCRIPTION:▶ Siehe Veranstaltungsbeschreibung – Berlin – Landesstift
 ung Berlin (Bildungswerk)
END:VEVENT
END:VCALENDAR
