BEGIN:VCALENDAR
VERSION:2.0
PRODID:-//ZContent.net//ZapCalLib 1.0//EN
CALSCALE:GREGORIAN
METHOD:PUBLISH
BEGIN:VEVENT
SUMMARY:Tag #2: Entwicklungspolitische Diskussionstage 2021 | 
DTSTART:20210526T093000
DTEND:20210526T113000
UID:2021-12-02-05-36-49-0-@calendar.boell.de
DTSTAMP:20211202T043649
DESCRIPTION:▶ Online-Veranstaltung – Heinrich-Böll-Stiftung - Bundesst
 iftung Berlin
END:VEVENT
END:VCALENDAR
