BEGIN:VCALENDAR
VERSION:2.0
PRODID:-//ZContent.net//ZapCalLib 1.0//EN
CALSCALE:GREGORIAN
METHOD:PUBLISH
BEGIN:VEVENT
SUMMARY:Baustelle: Zukunftsfeste Industrie #2 | Energiewirtschaft und Bauwi
 rtschaft 
DTSTART:20210601T160000
DTEND:20210601T183000
UID:2021-12-02-03-42-54-0-@calendar.boell.de
DTSTAMP:20211202T024254
DESCRIPTION:▶ Siehe Veranstaltungsbeschreibung – Heinrich-Böll-Stiftun
 g - Bundesstiftung Berlin
END:VEVENT
END:VCALENDAR
