BEGIN:VCALENDAR
VERSION:2.0
PRODID:-//ZContent.net//ZapCalLib 1.0//EN
CALSCALE:GREGORIAN
METHOD:PUBLISH
BEGIN:VEVENT
SUMMARY:Online-Seminar: Reden schreiben und halten (ausgebucht/Warteliste) 
 | Wie man Reden für jeden Anlass verfasst und überzeugend vorträgt
DTSTART:20210622T140000
DTEND:20210629T180000
UID:2026-04-22-14-24-05-0-@calendar.boell.de
DTSTAMP:20260422T122405
DESCRIPTION:▶ Siehe Veranstaltungsbeschreibung – Landesstiftung Nordrhe
 in-Westfalen
END:VEVENT
END:VCALENDAR
