BEGIN:VCALENDAR
VERSION:2.0
PRODID:-//ZContent.net//ZapCalLib 1.0//EN
CALSCALE:GREGORIAN
METHOD:PUBLISH
BEGIN:VEVENT
SUMMARY:EU-Politik zu Nahost und Nordafrika: Lehren aus 2011 für die Zukun
 ft | Arabischer Frühling 10 Jahre danach: Zum Kontext von Protestzyklen i
 n Nahost und Nordafrika  (Ringvorlesung Sommersemester 2021)
DTSTART:20210701T181500
DTEND:20210701T194500
UID:2021-12-02-05-37-03-0-@calendar.boell.de
DTSTAMP:20211202T043703
DESCRIPTION:▶ Online-Veranstaltung – Landesstiftung Hamburg
END:VEVENT
END:VCALENDAR
