BEGIN:VCALENDAR
VERSION:2.0
PRODID:-//ZContent.net//ZapCalLib 1.0//EN
CALSCALE:GREGORIAN
METHOD:PUBLISH
BEGIN:VEVENT
SUMMARY:Saudi Arabia & the United Arab Emirates: Spearheads of the Counterr
 evolution? | 10 Years After the Arab Spring: Protest Cycles in the Middle 
 East and North Africa in Context (Lecture Series, Summer Semester 2021)
DTSTART:20210429T181500
DTEND:20210429T194500
UID:2021-12-02-05-37-05-0-@calendar.boell.de
DTSTAMP:20211202T043705
DESCRIPTION:▶ Online-Veranstaltung – Landesstiftung Hamburg
END:VEVENT
END:VCALENDAR
