BEGIN:VCALENDAR
VERSION:2.0
PRODID:-//ZContent.net//ZapCalLib 1.0//EN
CALSCALE:GREGORIAN
METHOD:PUBLISH
BEGIN:VEVENT
SUMMARY:Ausfall: Klasse, Klassenkampf und linke Politik im 21. Jahrhundert 
 | Was taugt der Begriff der Klasse und wie kann moderne Klassenpolitik aus
 sehen?
DTSTART:20210925T110000
DTEND:20210926T170000
UID:2026-04-22-22-54-38-0-@calendar.boell.de
DTSTAMP:20260422T205438
DESCRIPTION:▶ Siehe Veranstaltungsbeschreibung – Berlin – Landesstift
 ung Berlin (Bildungswerk)
END:VEVENT
END:VCALENDAR
