BEGIN:VCALENDAR
VERSION:2.0
PRODID:-//ZContent.net//ZapCalLib 1.0//EN
CALSCALE:GREGORIAN
METHOD:PUBLISH
BEGIN:VEVENT
SUMMARY:Online-Seminar: Botschaften setzen mit dem Smartphone (ausgebucht/W
 arteliste) | Schnell erstellt und gezielt eingesetzt
DTSTART:20210605T100000
DTEND:20210606T180000
UID:2026-04-19-21-01-48-0-@calendar.boell.de
DTSTAMP:20260419T190148
DESCRIPTION:▶ Siehe Veranstaltungsbeschreibung – Landesstiftung Nordrhe
 in-Westfalen
END:VEVENT
END:VCALENDAR
