BEGIN:VCALENDAR
VERSION:2.0
PRODID:-//ZContent.net//ZapCalLib 1.0//EN
CALSCALE:GREGORIAN
METHOD:PUBLISH
BEGIN:VEVENT
SUMMARY:Künstliche Intelligenz – Was geht mich das an?  | Fictional Real
 ity Game „reconstruct:alan_turing“
DTSTART:20210423T180000
DTEND:20210423T193000
UID:2021-12-02-04-23-44-0-@calendar.boell.de
DTSTAMP:20211202T032344
DESCRIPTION:▶ Online-Veranstaltung – Landesstiftung Niedersachsen (Lebe
 n & Umwelt)
END:VEVENT
END:VCALENDAR
