BEGIN:VCALENDAR
VERSION:2.0
PRODID:-//ZContent.net//ZapCalLib 1.0//EN
CALSCALE:GREGORIAN
METHOD:PUBLISH
BEGIN:VEVENT
SUMMARY:Rechte Parolen kontern | Teil 1 von 2 | Zweiteiliges Argumentations
 training
DTSTART:20210420T160000
DTEND:20210420T193000
UID:2021-12-02-07-30-33-0-@calendar.boell.de
DTSTAMP:20211202T063033
DESCRIPTION:▶ Siehe Veranstaltungsbeschreibung – Heinrich Böll Stiftun
 g Baden-Württemberg
END:VEVENT
END:VCALENDAR
