BEGIN:VCALENDAR
VERSION:2.0
PRODID:-//ZContent.net//ZapCalLib 1.0//EN
CALSCALE:GREGORIAN
METHOD:PUBLISH
BEGIN:VEVENT
SUMMARY:Sichtbar machen – was geschlechtergerechte Sprache kann | Warteli
 ste  | Interaktiver Online-Workshop
DTSTART:20210422T170000
DTEND:20210422T200000
UID:2021-12-02-07-30-35-0-@calendar.boell.de
DTSTAMP:20211202T063035
DESCRIPTION:▶ Online-Veranstaltung – Heinrich Böll Stiftung Baden-Wür
 ttemberg
END:VEVENT
END:VCALENDAR
