BEGIN:VCALENDAR
VERSION:2.0
PRODID:-//ZContent.net//ZapCalLib 1.0//EN
CALSCALE:GREGORIAN
METHOD:PUBLISH
BEGIN:VEVENT
SUMMARY:Frauenpoli-Tisch – Das Frauentischgespräch  | Mein innerer Stamm
 tisch II
DTSTART:20210322T180000
DTEND:20210322T193000
UID:2021-12-02-05-46-02-0-@calendar.boell.de
DTSTAMP:20211202T044602
DESCRIPTION:▶ Online-Veranstaltung – Landesstiftung Niedersachsen (Lebe
 n & Umwelt)
END:VEVENT
END:VCALENDAR
