BEGIN:VCALENDAR
VERSION:2.0
PRODID:-//ZContent.net//ZapCalLib 1.0//EN
CALSCALE:GREGORIAN
METHOD:PUBLISH
BEGIN:VEVENT
SUMMARY:Geschichten erzählen mit Dokumentarischer Portraitfotografie | Fot
 oworkshops zur Ausstellung „Eine Reise durch Deutschland. Die Mordserie 
 des NSU“
DTSTART:20210612T100000
DTEND:20210613T160000
UID:2021-12-02-04-13-28-0-@calendar.boell.de
DTSTAMP:20211202T031328
DESCRIPTION:▶ Siehe Veranstaltungsbeschreibung – Eisenach – Landessti
 ftung Thüringen
END:VEVENT
BEGIN:VEVENT
SUMMARY:Geschichten erzählen mit Dokumentarischer Portraitfotografie | Fot
 oworkshops zur Ausstellung „Eine Reise durch Deutschland. Die Mordserie 
 des NSU“
DTSTART:20210423T090000
DTEND:20210425T160000
UID:2021-12-02-03-13-28-1-@calendar.boell.de
DTSTAMP:20211202T031328
DESCRIPTION:▶ Siehe Veranstaltungsbeschreibung – Eisenach – Landessti
 ftung Thüringen
END:VEVENT
END:VCALENDAR
