BEGIN:VCALENDAR
VERSION:2.0
PRODID:-//ZContent.net//ZapCalLib 1.0//EN
CALSCALE:GREGORIAN
METHOD:PUBLISH
BEGIN:VEVENT
SUMMARY:Uns schmeißt so schnell nichts um! | Resiliente Kommunen: wachsam,
  mutig, zukunftsfest
DTSTART:20210507T180000
DTEND:20210508T170000
UID:2026-04-23-21-49-54-0-@calendar.boell.de
DTSTAMP:20260423T194954
DESCRIPTION:▶ Siehe Veranstaltungsbeschreibung – Petra-Kelly-Stiftung
END:VEVENT
END:VCALENDAR
