BEGIN:VCALENDAR
VERSION:2.0
PRODID:-//ZContent.net//ZapCalLib 1.0//EN
CALSCALE:GREGORIAN
METHOD:PUBLISH
BEGIN:VEVENT
SUMMARY:Grundkurs Wärmewende | Teil I: Heizen – Energieträger und Syste
 me
DTSTART:20210506T160000
DTEND:20210506T180000
UID:2026-04-24-01-23-12-0-@calendar.boell.de
DTSTAMP:20260423T232312
DESCRIPTION:▶ Online-Veranstaltung – Heinrich-Böll-Stiftung im Stiftun
 gsverbund
END:VEVENT
END:VCALENDAR
