BEGIN:VCALENDAR
VERSION:2.0
PRODID:-//ZContent.net//ZapCalLib 1.0//EN
CALSCALE:GREGORIAN
METHOD:PUBLISH
BEGIN:VEVENT
SUMMARY:Revolution: Wer stört die Ordnung? | 
DTSTART:20210326T190000
DTEND:20210326T210000
UID:2021-12-02-05-45-49-0-@calendar.boell.de
DTSTAMP:20211202T044549
DESCRIPTION:▶ Online-Veranstaltung – Petra-Kelly-Stiftung
END:VEVENT
END:VCALENDAR
